BEGIN:VCALENDAR
VERSION:2.0
PRODID:-//Stadtkapelle Herrenberg e.V. - ECPv6.15.20//NONSGML v1.0//EN
CALSCALE:GREGORIAN
METHOD:PUBLISH
X-WR-CALNAME:Stadtkapelle Herrenberg e.V.
X-ORIGINAL-URL:https://stadtkapelle-herrenberg.de
X-WR-CALDESC:Veranstaltungen für Stadtkapelle Herrenberg e.V.
REFRESH-INTERVAL;VALUE=DURATION:PT1H
X-Robots-Tag:noindex
X-PUBLISHED-TTL:PT1H
BEGIN:VTIMEZONE
TZID:Europe/Berlin
BEGIN:DAYLIGHT
TZOFFSETFROM:+0100
TZOFFSETTO:+0200
TZNAME:CEST
DTSTART:20250330T010000
END:DAYLIGHT
BEGIN:STANDARD
TZOFFSETFROM:+0200
TZOFFSETTO:+0100
TZNAME:CET
DTSTART:20251026T010000
END:STANDARD
BEGIN:DAYLIGHT
TZOFFSETFROM:+0100
TZOFFSETTO:+0200
TZNAME:CEST
DTSTART:20260329T010000
END:DAYLIGHT
BEGIN:STANDARD
TZOFFSETFROM:+0200
TZOFFSETTO:+0100
TZNAME:CET
DTSTART:20261025T010000
END:STANDARD
BEGIN:DAYLIGHT
TZOFFSETFROM:+0100
TZOFFSETTO:+0200
TZNAME:CEST
DTSTART:20270328T010000
END:DAYLIGHT
BEGIN:STANDARD
TZOFFSETFROM:+0200
TZOFFSETTO:+0100
TZNAME:CET
DTSTART:20271031T010000
END:STANDARD
END:VTIMEZONE
BEGIN:VEVENT
DTSTART;VALUE=DATE:20260514
DTEND;VALUE=DATE:20260518
DTSTAMP:20260423T101014
CREATED:20260114T211340Z
LAST-MODIFIED:20260114T211340Z
UID:3452-1778716800-1779062399@stadtkapelle-herrenberg.de
SUMMARY:Musiktage Herrenberg
DESCRIPTION:
URL:https://stadtkapelle-herrenberg.de/termin/musiktage-herrenberg/
LOCATION:Festwiese Herrenberg
END:VEVENT
BEGIN:VEVENT
DTSTART;VALUE=DATE:20260517
DTEND;VALUE=DATE:20260518
DTSTAMP:20260423T101014
CREATED:20260114T211507Z
LAST-MODIFIED:20260114T211507Z
UID:3455-1778976000-1779062399@stadtkapelle-herrenberg.de
SUMMARY:Festumzug Musiktage Herrenberg
DESCRIPTION:
URL:https://stadtkapelle-herrenberg.de/termin/festumzug-musiktage-herrenberg/
END:VEVENT
BEGIN:VEVENT
DTSTART;TZID=Europe/Berlin:20260604T110000
DTEND;TZID=Europe/Berlin:20260604T130000
DTSTAMP:20260423T101014
CREATED:20260114T211658Z
LAST-MODIFIED:20260114T211658Z
UID:3457-1780570800-1780578000@stadtkapelle-herrenberg.de
SUMMARY:Auftritt Weizenbierfest Egenhausen
DESCRIPTION:
URL:https://stadtkapelle-herrenberg.de/termin/auftritt-weizenbierfest-egenhausen/
END:VEVENT
BEGIN:VEVENT
DTSTART;VALUE=DATE:20260607
DTEND;VALUE=DATE:20260608
DTSTAMP:20260423T101014
CREATED:20260413T191204Z
LAST-MODIFIED:20260413T191204Z
UID:3630-1780790400-1780876799@stadtkapelle-herrenberg.de
SUMMARY:Festumzug Jubiläum Gültstein
DESCRIPTION:
URL:https://stadtkapelle-herrenberg.de/termin/festumzug-jubilaeum-gueltstein/
LOCATION:Gültstein
END:VEVENT
BEGIN:VEVENT
DTSTART;TZID=Europe/Berlin:20260712T113000
DTEND;TZID=Europe/Berlin:20260712T133000
DTSTAMP:20260423T101014
CREATED:20260114T211836Z
LAST-MODIFIED:20260114T211836Z
UID:3459-1783855800-1783863000@stadtkapelle-herrenberg.de
SUMMARY:Auftritt Kelterfest Entringen
DESCRIPTION:
URL:https://stadtkapelle-herrenberg.de/termin/auftritt-kelterfest-entringen/
END:VEVENT
BEGIN:VEVENT
DTSTART;TZID=Europe/Berlin:20260717T080000
DTEND;TZID=Europe/Berlin:20260719T170000
DTSTAMP:20260423T101014
CREATED:20260114T212042Z
LAST-MODIFIED:20260114T212042Z
UID:3461-1784275200-1784480400@stadtkapelle-herrenberg.de
SUMMARY:Stadtfest Herrenberg
DESCRIPTION:
URL:https://stadtkapelle-herrenberg.de/termin/stadtfest-herrenberg-2/
END:VEVENT
BEGIN:VEVENT
DTSTART;TZID=Europe/Berlin:20260726T133000
DTEND;TZID=Europe/Berlin:20260726T153000
DTSTAMP:20260423T101014
CREATED:20260114T212211Z
LAST-MODIFIED:20260114T212211Z
UID:3463-1785072600-1785079800@stadtkapelle-herrenberg.de
SUMMARY:Umzug Kreisfeuerwehrtag Maichingen
DESCRIPTION:
URL:https://stadtkapelle-herrenberg.de/termin/umzug-kreisfeuerwehrtag-maichingen/
END:VEVENT
BEGIN:VEVENT
DTSTART;VALUE=DATE:20260918
DTEND;VALUE=DATE:20260921
DTSTAMP:20260423T101014
CREATED:20260114T212424Z
LAST-MODIFIED:20260114T212424Z
UID:3465-1789689600-1789948799@stadtkapelle-herrenberg.de
SUMMARY:Europäisches Blasmusikfestival Bad Schlema
DESCRIPTION:
URL:https://stadtkapelle-herrenberg.de/termin/europaeisches-blasmusikfestival-bad-schlema/
END:VEVENT
END:VCALENDAR